BEGIN:VCALENDAR
VERSION:2.0
PRODID:spatie/icalendar-generator
DESCRIPTION:Events from The Living Faith Church of Northern KY
X-WR-CALDESC:Events from The Living Faith Church of Northern KY
REFRESH-INTERVAL;VALUE=DURATION:PT1440M
X-PUBLISHED-TTL:PT1440M
BEGIN:VTIMEZONE
TZID:America/New_York
BEGIN:STANDARD
DTSTART:20251102T020000Z
TZOFFSETFROM:-0400
TZOFFSETTO:-0500
END:STANDARD
BEGIN:DAYLIGHT
DTSTART:20260308T020000Z
TZOFFSETFROM:-0500
TZOFFSETTO:-0400
END:DAYLIGHT
END:VTIMEZONE
BEGIN:VTIMEZONE
TZID:UTC
BEGIN:STANDARD
DTSTART:20250725T082043Z
TZOFFSETFROM:+0000
TZOFFSETTO:+0000
END:STANDARD
END:VTIMEZONE
BEGIN:VEVENT
UID:4-2
DTSTAMP:20260421T082043Z
SUMMARY:AA District 32\, Boone Co.
LOCATION:
ORGANIZER;CN=Rebecca Adams:MAILTO:adamsr16@outlook.com
RRULE:FREQ=MONTHLY;BYDAY=1MO;UNTIL=20360201T000000Z
DTSTART;TZID=America/New_York:20260406T173000
DTEND;TZID=America/New_York:20260406T190000
X-ALT-DESC;FMTTYPE=TEXT/HTML:First Monday of Every Month\, 5:30 PM to 7:00 
 PM Damel Zumdick 859-240-5918 929 Summit Ridge\, Erlanger\, KY 41018 dzumd
 ick613@gmail.com
CATEGORIES:Building Use Schedule
URL;VALUE=URI:https://livingfaith.live/mc-events/aa-district-32-boone-co/?m
 c_id=4
METHOD:PUBLISH
END:VEVENT
END:VCALENDAR